BEGIN:VCALENDAR
VERSION:2.0
PRODID:-//Ving Tsun Sisterhood - ECPv6.0.13.1//NONSGML v1.0//EN
CALSCALE:GREGORIAN
METHOD:PUBLISH
X-WR-CALNAME:Ving Tsun Sisterhood
X-ORIGINAL-URL:http://vingtsunsisterhood.org
X-WR-CALDESC:Events for Ving Tsun Sisterhood
REFRESH-INTERVAL;VALUE=DURATION:PT1H
X-Robots-Tag:noindex
X-PUBLISHED-TTL:PT1H
BEGIN:VTIMEZONE
TZID:UTC
BEGIN:STANDARD
TZOFFSETFROM:+0000
TZOFFSETTO:+0000
TZNAME:UTC
DTSTART:20170101T000000
END:STANDARD
END:VTIMEZONE
BEGIN:VEVENT
DTSTART;TZID=UTC:20170907T150000
DTEND;TZID=UTC:20170910T150000
DTSTAMP:20260420T210633
CREATED:20170305T205721Z
LAST-MODIFIED:20170502T233947Z
UID:110-1504796400-1505055600@vingtsunsisterhood.org
SUMMARY:5th Annual Kung Fu Sisters Retreat
DESCRIPTION:Come join us for another transformative weekend of sisterhood!\nRegister for this event here! \nPlease note: Event pricing is in USD$ \n 
URL:http://vingtsunsisterhood.org/event/5th-annual-kung-fu-sisters-retreat
LOCATION:Venture Retreat\, 3817 18th St.\, San Francisco\, CA\, 94114\, United States
CATEGORIES:Sisters Retreat
END:VEVENT
END:VCALENDAR